BEGIN:VCALENDAR
VERSION:2.0
PRODID:-//Cedar Tree Classical Christian School - ECPv6.15.20//NONSGML v1.0//EN
CALSCALE:GREGORIAN
METHOD:PUBLISH
X-WR-CALNAME:Cedar Tree Classical Christian School
X-ORIGINAL-URL:https://www.cedartreeschool.org
X-WR-CALDESC:Events for Cedar Tree Classical Christian School
REFRESH-INTERVAL;VALUE=DURATION:PT1H
X-Robots-Tag:noindex
X-PUBLISHED-TTL:PT1H
BEGIN:VTIMEZONE
TZID:America/Los_Angeles
BEGIN:DAYLIGHT
TZOFFSETFROM:-0800
TZOFFSETTO:-0700
TZNAME:PDT
DTSTART:20240310T100000
END:DAYLIGHT
BEGIN:STANDARD
TZOFFSETFROM:-0700
TZOFFSETTO:-0800
TZNAME:PST
DTSTART:20241103T090000
END:STANDARD
BEGIN:DAYLIGHT
TZOFFSETFROM:-0800
TZOFFSETTO:-0700
TZNAME:PDT
DTSTART:20250309T100000
END:DAYLIGHT
BEGIN:STANDARD
TZOFFSETFROM:-0700
TZOFFSETTO:-0800
TZNAME:PST
DTSTART:20251102T090000
END:STANDARD
BEGIN:DAYLIGHT
TZOFFSETFROM:-0800
TZOFFSETTO:-0700
TZNAME:PDT
DTSTART:20260308T100000
END:DAYLIGHT
BEGIN:STANDARD
TZOFFSETFROM:-0700
TZOFFSETTO:-0800
TZNAME:PST
DTSTART:20261101T090000
END:STANDARD
BEGIN:DAYLIGHT
TZOFFSETFROM:-0800
TZOFFSETTO:-0700
TZNAME:PDT
DTSTART:20270314T100000
END:DAYLIGHT
BEGIN:STANDARD
TZOFFSETFROM:-0700
TZOFFSETTO:-0800
TZNAME:PST
DTSTART:20271107T090000
END:STANDARD
END:VTIMEZONE
BEGIN:VEVENT
DTSTART;VALUE=DATE:20251219
DTEND;VALUE=DATE:20260103
DTSTAMP:20260423T093251
CREATED:20221101T175337Z
LAST-MODIFIED:20250925T160353Z
UID:4486-1766102400-1767398399@www.cedartreeschool.org
SUMMARY:Christmas Break - No School
DESCRIPTION:No school\, Friday\, December 19 through Friday\, January 2. Return to School Monday\, January 5\, 2026.
URL:https://www.cedartreeschool.org/event/christmas-break-no-school/
CATEGORIES:Website
ATTACH;FMTTYPE=image/jpeg:https://www.cedartreeschool.org/wp-content/uploads/Web-Image-Calendar-Christmas.jpg
END:VEVENT
BEGIN:VEVENT
DTSTART;TZID=America/Los_Angeles:20260109T180000
DTEND;TZID=America/Los_Angeles:20260109T203000
DTSTAMP:20260423T093251
CREATED:20221120T224142Z
LAST-MODIFIED:20251215T201103Z
UID:3977-1767981600-1767990600@www.cedartreeschool.org
SUMMARY:Family Dance
DESCRIPTION:Friday\, January 9\, 6:00-8:30pm in the Assembly Hall. This is a fun event for the whole family. Pay $20 per family online or in the office. Curious about what to expect? See a video from a past Family Ball here.
URL:https://www.cedartreeschool.org/event/family-ball/
CATEGORIES:Website
ATTACH;FMTTYPE=image/jpeg:https://www.cedartreeschool.org/wp-content/uploads/A7I09411-Enhanced-NR-1-scaled.jpg
END:VEVENT
BEGIN:VEVENT
DTSTART;TZID=America/Los_Angeles:20260113T083000
DTEND;TZID=America/Los_Angeles:20260113T130000
DTSTAMP:20260423T093251
CREATED:20230115T180018Z
LAST-MODIFIED:20251120T223151Z
UID:4048-1768293000-1768309200@www.cedartreeschool.org
SUMMARY:In-Service (Early Release)
DESCRIPTION:Tuesday\, January 13. Assembly times: K-2nd Assembly 9:00-9:20; 3rd-6th Assembly 9:30-9:50; L/R assembly 10:00-10:20. 2-hour early dismissal.
URL:https://www.cedartreeschool.org/event/assembly-dress-uniform-required-5/
CATEGORIES:Website
ATTACH;FMTTYPE=image/png:https://www.cedartreeschool.org/wp-content/uploads/Web-Image-Early-Release-scaled.png
END:VEVENT
BEGIN:VEVENT
DTSTART;TZID=America/Los_Angeles:20260119T083000
DTEND;TZID=America/Los_Angeles:20260119T150000
DTSTAMP:20260423T093252
CREATED:20231002T204303Z
LAST-MODIFIED:20251120T223025Z
UID:6387-1768811400-1768834800@www.cedartreeschool.org
SUMMARY:Coffee Talk & MLK Jr. Assembly - Dress Uniform Required
DESCRIPTION:Monday\, January 19. Assembly times: K-2nd Assembly 9:00-9:20; 3rd-6th Assembly 9:30-9:50; L/R assembly 10:00-10:20. Dress Uniforms Required.
URL:https://www.cedartreeschool.org/event/assembly-dress-uniform-required-8/
CATEGORIES:Website
ATTACH;FMTTYPE=image/png:https://www.cedartreeschool.org/wp-content/uploads/Web-Image-Calendar-Coffee-scaled.png
END:VEVENT
BEGIN:VEVENT
DTSTART;TZID=America/Los_Angeles:20260127T080000
DTEND;TZID=America/Los_Angeles:20260127T130000
DTSTAMP:20260423T093252
CREATED:20240912T203547Z
LAST-MODIFIED:20251121T163731Z
UID:6625-1769500800-1769518800@www.cedartreeschool.org
SUMMARY:Speech Contest & Teacher In-Service (Early Release)
DESCRIPTION:Tuesday\, January 27 in-class speech contest for PG1-L2. Dress uniforms required and 2-hour early dismissal.
URL:https://www.cedartreeschool.org/event/in-service-early-release/
CATEGORIES:Website
ATTACH;FMTTYPE=image/png:https://www.cedartreeschool.org/wp-content/uploads/Web-Image-Calendar-Speech.png
END:VEVENT
END:VCALENDAR