BEGIN:VCALENDAR
VERSION:2.0
PRODID:-//Cedar Tree Classical Christian School - ECPv6.15.20//NONSGML v1.0//EN
CALSCALE:GREGORIAN
METHOD:PUBLISH
X-WR-CALNAME:Cedar Tree Classical Christian School
X-ORIGINAL-URL:https://www.cedartreeschool.org
X-WR-CALDESC:Events for Cedar Tree Classical Christian School
REFRESH-INTERVAL;VALUE=DURATION:PT1H
X-Robots-Tag:noindex
X-PUBLISHED-TTL:PT1H
BEGIN:VTIMEZONE
TZID:America/Los_Angeles
BEGIN:DAYLIGHT
TZOFFSETFROM:-0800
TZOFFSETTO:-0700
TZNAME:PDT
DTSTART:20240310T100000
END:DAYLIGHT
BEGIN:STANDARD
TZOFFSETFROM:-0700
TZOFFSETTO:-0800
TZNAME:PST
DTSTART:20241103T090000
END:STANDARD
BEGIN:DAYLIGHT
TZOFFSETFROM:-0800
TZOFFSETTO:-0700
TZNAME:PDT
DTSTART:20250309T100000
END:DAYLIGHT
BEGIN:STANDARD
TZOFFSETFROM:-0700
TZOFFSETTO:-0800
TZNAME:PST
DTSTART:20251102T090000
END:STANDARD
BEGIN:DAYLIGHT
TZOFFSETFROM:-0800
TZOFFSETTO:-0700
TZNAME:PDT
DTSTART:20260308T100000
END:DAYLIGHT
BEGIN:STANDARD
TZOFFSETFROM:-0700
TZOFFSETTO:-0800
TZNAME:PST
DTSTART:20261101T090000
END:STANDARD
END:VTIMEZONE
BEGIN:VEVENT
DTSTART;TZID=America/Los_Angeles:20251014T083000
DTEND;TZID=America/Los_Angeles:20251014T090000
DTSTAMP:20260423T141018
CREATED:20221003T183945Z
LAST-MODIFIED:20250918T155033Z
UID:4046-1760430600-1760432400@www.cedartreeschool.org
SUMMARY:Coffee Talk
DESCRIPTION:Tuesday\, October 14\, parents are invited to join us in the Assembly Hall immediately after the morning hymn until the first assembly at 9:00am for light refreshments and a Q&A with Mr. Bradshaw on the topic of “Working Together Graciously”.
URL:https://www.cedartreeschool.org/event/coffee-talk-4/
CATEGORIES:Website
ATTACH;FMTTYPE=image/png:https://www.cedartreeschool.org/wp-content/uploads/Web-Image-Coffee-Talk.png
END:VEVENT
BEGIN:VEVENT
DTSTART;TZID=America/Los_Angeles:20251014T083000
DTEND;TZID=America/Los_Angeles:20251014T130000
DTSTAMP:20260423T141018
CREATED:20220901T183722Z
LAST-MODIFIED:20250918T155353Z
UID:4058-1760430600-1760446800@www.cedartreeschool.org
SUMMARY:Assembly & Photo Retakes
DESCRIPTION:Tuesday\, October 14. Assembly times: K-3rd grades 9:00-9:20; 4th-6th grades 9:30-9:50; L/R grades 10:00-10:20. Contact the office today if you would like your child’s school picture retaken. Dress Uniform Required. 
URL:https://www.cedartreeschool.org/event/assembly-dress-uniforms-required-2/
CATEGORIES:Website
ATTACH;FMTTYPE=image/png:https://www.cedartreeschool.org/wp-content/uploads/Uniforms-1962-scaled.png
END:VEVENT
BEGIN:VEVENT
DTSTART;TZID=America/Los_Angeles:20251014T083000
DTEND;TZID=America/Los_Angeles:20251014T130000
DTSTAMP:20260423T141018
CREATED:20221231T192210Z
LAST-MODIFIED:20250424T202819Z
UID:3991-1760430600-1760446800@www.cedartreeschool.org
SUMMARY:Early Release
DESCRIPTION:Tuesday\, October 14\, 2-hour early dismissal.
URL:https://www.cedartreeschool.org/event/assembly-dress-uniform-required/
CATEGORIES:Website
ATTACH;FMTTYPE=image/png:https://www.cedartreeschool.org/wp-content/uploads/Web-Image-Early-Release-scaled.png
END:VEVENT
BEGIN:VEVENT
DTSTART;TZID=America/Los_Angeles:20251023T080000
DTEND;TZID=America/Los_Angeles:20251023T130000
DTSTAMP:20260423T141018
CREATED:20230530T174059Z
LAST-MODIFIED:20250424T210809Z
UID:6178-1761206400-1761224400@www.cedartreeschool.org
SUMMARY:Early Release | Parent-Teacher Conferences
DESCRIPTION:Conferences are Thursday\, October 23 (2-Hr Early Release) and Friday\, October 24 (No School). Signups for Parent-Teacher conferences are in Skyward Family Access.
URL:https://www.cedartreeschool.org/event/parent-teacher-conferences/
CATEGORIES:Website
ATTACH;FMTTYPE=image/png:https://www.cedartreeschool.org/wp-content/uploads/Web-Image-Early-Release-PTC-2.png
END:VEVENT
BEGIN:VEVENT
DTSTART;VALUE=DATE:20251024
DTEND;VALUE=DATE:20251025
DTSTAMP:20260423T141018
CREATED:20250424T210504Z
LAST-MODIFIED:20250424T210543Z
UID:7009-1761264000-1761350399@www.cedartreeschool.org
SUMMARY:Parent Teacher Conferences - No School
DESCRIPTION:Conferences are Thursday\, October 23 (2-Hr Early Release) and Friday\, October 24 (No School). Signups for Parent-Teacher conferences are in Skyward Family Access.
URL:https://www.cedartreeschool.org/event/parent-teacher-conferences-no-school-2/
CATEGORIES:Website
ATTACH;FMTTYPE=image/png:https://www.cedartreeschool.org/wp-content/uploads/Web-Image-PTC.png
END:VEVENT
BEGIN:VEVENT
DTSTART;TZID=America/Los_Angeles:20251031T083000
DTEND;TZID=America/Los_Angeles:20251031T130000
DTSTAMP:20260423T141018
CREATED:20220901T192248Z
LAST-MODIFIED:20250424T213548Z
UID:4590-1761899400-1761915600@www.cedartreeschool.org
SUMMARY:Reformation Day
DESCRIPTION:Friday\, October 31\, students may dress up as a “hero of the faith” or important Christian in history who died before the end of the 20th century\, otherwise Dress Uniform Required and Early Release at 1pm.
URL:https://www.cedartreeschool.org/event/reformation-day/
CATEGORIES:Website
ATTACH;FMTTYPE=image/png:https://www.cedartreeschool.org/wp-content/uploads/Web-Image-Reformation-Day.png
END:VEVENT
END:VCALENDAR