BEGIN:VCALENDAR
VERSION:2.0
PRODID:-//Cedar Tree Classical Christian School - ECPv6.15.20//NONSGML v1.0//EN
CALSCALE:GREGORIAN
METHOD:PUBLISH
X-WR-CALNAME:Cedar Tree Classical Christian School
X-ORIGINAL-URL:https://www.cedartreeschool.org
X-WR-CALDESC:Events for Cedar Tree Classical Christian School
REFRESH-INTERVAL;VALUE=DURATION:PT1H
X-Robots-Tag:noindex
X-PUBLISHED-TTL:PT1H
BEGIN:VTIMEZONE
TZID:America/Los_Angeles
BEGIN:DAYLIGHT
TZOFFSETFROM:-0800
TZOFFSETTO:-0700
TZNAME:PDT
DTSTART:20200308T100000
END:DAYLIGHT
BEGIN:STANDARD
TZOFFSETFROM:-0700
TZOFFSETTO:-0800
TZNAME:PST
DTSTART:20201101T090000
END:STANDARD
BEGIN:DAYLIGHT
TZOFFSETFROM:-0800
TZOFFSETTO:-0700
TZNAME:PDT
DTSTART:20210314T100000
END:DAYLIGHT
BEGIN:STANDARD
TZOFFSETFROM:-0700
TZOFFSETTO:-0800
TZNAME:PST
DTSTART:20211107T090000
END:STANDARD
BEGIN:DAYLIGHT
TZOFFSETFROM:-0800
TZOFFSETTO:-0700
TZNAME:PDT
DTSTART:20220313T100000
END:DAYLIGHT
BEGIN:STANDARD
TZOFFSETFROM:-0700
TZOFFSETTO:-0800
TZNAME:PST
DTSTART:20221106T090000
END:STANDARD
BEGIN:DAYLIGHT
TZOFFSETFROM:-0800
TZOFFSETTO:-0700
TZNAME:PDT
DTSTART:20230312T100000
END:DAYLIGHT
BEGIN:STANDARD
TZOFFSETFROM:-0700
TZOFFSETTO:-0800
TZNAME:PST
DTSTART:20231105T090000
END:STANDARD
BEGIN:DAYLIGHT
TZOFFSETFROM:-0800
TZOFFSETTO:-0700
TZNAME:PDT
DTSTART:20240310T100000
END:DAYLIGHT
BEGIN:STANDARD
TZOFFSETFROM:-0700
TZOFFSETTO:-0800
TZNAME:PST
DTSTART:20241103T090000
END:STANDARD
END:VTIMEZONE
BEGIN:VEVENT
DTSTART;TZID=America/Los_Angeles:20231114T083000
DTEND;TZID=America/Los_Angeles:20231114T090000
DTSTAMP:20260423T174204
CREATED:20220901T185306Z
LAST-MODIFIED:20231002T212151Z
UID:4044-1699950600-1699952400@www.cedartreeschool.org
SUMMARY:Coffee Talk
DESCRIPTION:Tuesday\, November 14\, parents are invited to join us in the Assembly Hall immediately after the morning hymn until the first assembly at 9:00am for light refreshments and a Q&A with Mr. Bradshaw on the topic of Training Appreciation for Heritage.
URL:https://www.cedartreeschool.org/event/coffee-talk-5/
CATEGORIES:Website
ATTACH;FMTTYPE=image/jpeg:https://www.cedartreeschool.org/wp-content/uploads/coffee-talk-4.jpg
END:VEVENT
BEGIN:VEVENT
DTSTART;TZID=America/Los_Angeles:20221024T080000
DTEND;TZID=America/Los_Angeles:20221024T170000
DTSTAMP:20260423T174204
CREATED:20221024T215322Z
LAST-MODIFIED:20221024T215417Z
UID:5186-1666598400-1666630800@www.cedartreeschool.org
SUMMARY:Madrigal Feast Auditions
DESCRIPTION:Auditions for our madrigal actors will be after school tomorrow 3:00-4:00pm Tuesday\, October 25. Anyone not available then can make arrangements to audition with director Mrs. Carson later this week.
URL:https://www.cedartreeschool.org/event/madrigal-feast-auditions/
CATEGORIES:NotaBene
END:VEVENT
BEGIN:VEVENT
DTSTART;TZID=America/Los_Angeles:20220523T190000
DTEND;TZID=America/Los_Angeles:20220523T203000
DTSTAMP:20260423T174204
CREATED:20210430T211250Z
LAST-MODIFIED:20220517T182615Z
UID:3546-1653332400-1653337800@www.cedartreeschool.org
SUMMARY:Senior Thesis
DESCRIPTION:Everyone is invited to join us at 7:00pm\, Monday\, May 23\, in the Assembly Hall as our seniors make their thesis presentations. Cedar Tree students should wear everyday uniforms.
URL:https://www.cedartreeschool.org/event/senior-thesis/
ATTACH;FMTTYPE=image/jpeg:https://www.cedartreeschool.org/wp-content/uploads/august-senior-thesis-e1619817280674.jpg
END:VEVENT
BEGIN:VEVENT
DTSTART;TZID=America/Los_Angeles:20210220T130000
DTEND;TZID=America/Los_Angeles:20210220T160000
DTSTAMP:20260423T174204
CREATED:20210211T190641Z
LAST-MODIFIED:20210211T222646Z
UID:3450-1613826000-1613836800@www.cedartreeschool.org
SUMMARY:Feb 20-Dedication Tour Fundraiser
DESCRIPTION:We are excited to celebrate the opening of the new building together on February 20\, 1:00-4:00pm.  Come to our Dedication Tour Fundraiser and enjoy our nearly complete Assembly Hall. Tour guides will engage visitors with fun facts and behind the scenes details to introduce the new hall. There will be special drawings for those who participate. RSVP for a tour time with your family here. We are grateful for God’s provision and happy to see our many plans coming to fruition after so many years of planning! Share in this joy with us! \nTO DONATE\nUse this link to donate using e-Funds or the button below to use PayPal.
URL:https://www.cedartreeschool.org/event/feb-20-dedication-tour-fundraiser/
ATTACH;FMTTYPE=image/jpeg:https://www.cedartreeschool.org/wp-content/uploads/Foggy-dec-morning-2-scaled-e1612824412881.jpg
END:VEVENT
END:VCALENDAR