BEGIN:VCALENDAR
VERSION:2.0
PRODID:-//Cedar Tree Classical Christian School - ECPv6.15.20//NONSGML v1.0//EN
CALSCALE:GREGORIAN
METHOD:PUBLISH
X-WR-CALNAME:Cedar Tree Classical Christian School
X-ORIGINAL-URL:https://www.cedartreeschool.org
X-WR-CALDESC:Events for Cedar Tree Classical Christian School
REFRESH-INTERVAL;VALUE=DURATION:PT1H
X-Robots-Tag:noindex
X-PUBLISHED-TTL:PT1H
BEGIN:VTIMEZONE
TZID:America/Los_Angeles
BEGIN:DAYLIGHT
TZOFFSETFROM:-0800
TZOFFSETTO:-0700
TZNAME:PDT
DTSTART:20250309T100000
END:DAYLIGHT
BEGIN:STANDARD
TZOFFSETFROM:-0700
TZOFFSETTO:-0800
TZNAME:PST
DTSTART:20251102T090000
END:STANDARD
BEGIN:DAYLIGHT
TZOFFSETFROM:-0800
TZOFFSETTO:-0700
TZNAME:PDT
DTSTART:20260308T100000
END:DAYLIGHT
BEGIN:STANDARD
TZOFFSETFROM:-0700
TZOFFSETTO:-0800
TZNAME:PST
DTSTART:20261101T090000
END:STANDARD
BEGIN:DAYLIGHT
TZOFFSETFROM:-0800
TZOFFSETTO:-0700
TZNAME:PDT
DTSTART:20270314T100000
END:DAYLIGHT
BEGIN:STANDARD
TZOFFSETFROM:-0700
TZOFFSETTO:-0800
TZNAME:PST
DTSTART:20271107T090000
END:STANDARD
END:VTIMEZONE
BEGIN:VEVENT
DTSTART;TZID=America/Los_Angeles:20260512T083000
DTEND;TZID=America/Los_Angeles:20260513T130000
DTSTAMP:20260423T012837
CREATED:20230328T175417Z
LAST-MODIFIED:20260206T193732Z
UID:5936-1778574600-1778677200@www.cedartreeschool.org
SUMMARY:Assembly & Early Release (In-Service)
DESCRIPTION:Tuesday\, May 12. Assembly times: K-2nd Assembly 9:00-9:20; 3rd-6th Assembly 9:30-9:50; L/R assembly 10:00-10:20. Dress Uniforms Required and 2-hour early dismissal.
URL:https://www.cedartreeschool.org/event/the-moonstone-3/
CATEGORIES:Website
ATTACH;FMTTYPE=image/png:https://www.cedartreeschool.org/wp-content/uploads/Web-Image-Early-Release-scaled.png
END:VEVENT
BEGIN:VEVENT
DTSTART;TZID=America/Los_Angeles:20260518T190000
DTEND;TZID=America/Los_Angeles:20260518T203000
DTSTAMP:20260423T012837
CREATED:20230425T163012Z
LAST-MODIFIED:20260326T193413Z
UID:6026-1779130800-1779136200@www.cedartreeschool.org
SUMMARY:Senior Thesis Presentations
DESCRIPTION:Everyone is invited to join us at 7:00pm\, Monday\, May 18\, in the Assembly Hall as our seniors make their thesis presentations. Cedar Tree students should wear everyday uniforms.
URL:https://www.cedartreeschool.org/event/senior-thesis-night-part-1/
CATEGORIES:Website
ATTACH;FMTTYPE=image/jpeg:https://www.cedartreeschool.org/wp-content/uploads/Senior-Thesis-EDITABLE-TEXT-Night-1-New-Senior-Marissa-1.jpg
END:VEVENT
BEGIN:VEVENT
DTSTART;VALUE=DATE:20260525
DTEND;VALUE=DATE:20260526
DTSTAMP:20260423T012838
CREATED:20220201T193047Z
LAST-MODIFIED:20260326T193506Z
UID:4330-1779667200-1779753599@www.cedartreeschool.org
SUMMARY:Memorial Day - No School
DESCRIPTION:Monday\, May 25\, No School.
URL:https://www.cedartreeschool.org/event/memorial-day-no-school/
CATEGORIES:Website
ATTACH;FMTTYPE=image/png:https://www.cedartreeschool.org/wp-content/uploads/Web-Image-Memoial-Day.png
END:VEVENT
BEGIN:VEVENT
DTSTART;TZID=America/Los_Angeles:20260604T190000
DTEND;TZID=America/Los_Angeles:20260604T203000
DTSTAMP:20260423T012838
CREATED:20230301T095624Z
LAST-MODIFIED:20260326T193551Z
UID:3240-1780599600-1780605000@www.cedartreeschool.org
SUMMARY:Commencement
DESCRIPTION:Cedar Tree’s Commencement Ceremony will be held at 7:00pm Thursday\, June 4\, at Cedar Tree Classical Christian School\, 20601 NE 29th Avenue\, Ridgefield\, Washington. The Cedar Tree community is invited to join together to give thanks to God with “Pomp and Circumstance” as we award diplomas to our senior class\, with this year’s guest speaker\, former Headmaster Jim Ellifritt. Refreshments following. Dress Uniforms Required for all students.
URL:https://www.cedartreeschool.org/event/commencement/
LOCATION:Cedar Tree Classical Christian School\, 20601 N.E. 29th Ave.\, Ridgefield\, WA\, 98642\, United States
CATEGORIES:Website
ATTACH;FMTTYPE=image/jpeg:https://www.cedartreeschool.org/wp-content/uploads/2024-06-06-193100-_NZ80933-scaled.jpg
END:VEVENT
BEGIN:VEVENT
DTSTART;TZID=America/Los_Angeles:20260910T170000
DTEND;TZID=America/Los_Angeles:20260910T190000
DTSTAMP:20260423T012838
CREATED:20230507T210212Z
LAST-MODIFIED:20260326T193858Z
UID:3726-1789059600-1789066800@www.cedartreeschool.org
SUMMARY:Meet-the-Teacher Picnic
DESCRIPTION:Thursday\, September 10\, 5:00-5:30pm classrooms open 5:00-5:30pm so that students can receive desk assignments\, meet teachers and classmates\, and drop off school supplies (supply kits purchased through the school will be in classrooms). We will then enjoy a shared dinner at 5:30pm on the courtyard lawn. Bring your own chairs or picnic blanket. Fried chicken\, plates\, forks\, and water will be provided. \nSee the shared dish assignments below\, organized by family last name. Please bring enough food for two families\, ready to serve\, with serving utensils. There will be no access to the school kitchen. We will serve dinner at 5:30pm and your empty dishes will be waiting on the table for you to take home. \nLast names:\nA-H bring Dessert\nJ-R bring Fruit\nS-Z bring Side Dish or Salad
URL:https://www.cedartreeschool.org/event/meet-the-teacher-picnic/
CATEGORIES:Website
ATTACH;FMTTYPE=image/jpeg:https://www.cedartreeschool.org/wp-content/uploads/2019-09-05-26783-scaled-e1631048496333.jpg
END:VEVENT
BEGIN:VEVENT
DTSTART;VALUE=DATE:20260914
DTEND;VALUE=DATE:20260915
DTSTAMP:20260423T012838
CREATED:20210618T223705Z
LAST-MODIFIED:20260326T194050Z
UID:3578-1789344000-1789430399@www.cedartreeschool.org
SUMMARY:First Day of School
DESCRIPTION:Monday\, September 14 is the first day of school. The school day is 8:30am-3:00pm (12:15pm dismissal for Kindergarten).
URL:https://www.cedartreeschool.org/event/first-day-of-school/
CATEGORIES:Website
ATTACH;FMTTYPE=image/jpeg:https://www.cedartreeschool.org/wp-content/uploads/2025-09-08083526_NZ89356-scaled.jpg
END:VEVENT
END:VCALENDAR