BEGIN:VCALENDAR
VERSION:2.0
PRODID:-//Cedar Tree Classical Christian School - ECPv6.15.20//NONSGML v1.0//EN
CALSCALE:GREGORIAN
METHOD:PUBLISH
X-WR-CALNAME:Cedar Tree Classical Christian School
X-ORIGINAL-URL:https://www.cedartreeschool.org
X-WR-CALDESC:Events for Cedar Tree Classical Christian School
REFRESH-INTERVAL;VALUE=DURATION:PT1H
X-Robots-Tag:noindex
X-PUBLISHED-TTL:PT1H
BEGIN:VTIMEZONE
TZID:America/Los_Angeles
BEGIN:DAYLIGHT
TZOFFSETFROM:-0800
TZOFFSETTO:-0700
TZNAME:PDT
DTSTART:20250309T100000
END:DAYLIGHT
BEGIN:STANDARD
TZOFFSETFROM:-0700
TZOFFSETTO:-0800
TZNAME:PST
DTSTART:20251102T090000
END:STANDARD
BEGIN:DAYLIGHT
TZOFFSETFROM:-0800
TZOFFSETTO:-0700
TZNAME:PDT
DTSTART:20260308T100000
END:DAYLIGHT
BEGIN:STANDARD
TZOFFSETFROM:-0700
TZOFFSETTO:-0800
TZNAME:PST
DTSTART:20261101T090000
END:STANDARD
BEGIN:DAYLIGHT
TZOFFSETFROM:-0800
TZOFFSETTO:-0700
TZNAME:PDT
DTSTART:20270314T100000
END:DAYLIGHT
BEGIN:STANDARD
TZOFFSETFROM:-0700
TZOFFSETTO:-0800
TZNAME:PST
DTSTART:20271107T090000
END:STANDARD
END:VTIMEZONE
BEGIN:VEVENT
DTSTART;VALUE=DATE:20260213
DTEND;VALUE=DATE:20260217
DTSTAMP:20260423T080141
CREATED:20221101T183121Z
LAST-MODIFIED:20251121T165045Z
UID:4009-1770940800-1771286399@www.cedartreeschool.org
SUMMARY:Presidents Day Weekend - No School
DESCRIPTION:Friday & Monday\, February 13 & 16. NO SCHOOL.
URL:https://www.cedartreeschool.org/event/presidents-day-weekend-no-school/
CATEGORIES:Website
ATTACH;FMTTYPE=image/png:https://www.cedartreeschool.org/wp-content/uploads/Web-Image-Presidents-Day-e1745522464936.png
END:VEVENT
END:VCALENDAR