BEGIN:VCALENDAR
VERSION:2.0
PRODID:-//Cedar Tree Classical Christian School - ECPv6.15.20//NONSGML v1.0//EN
CALSCALE:GREGORIAN
METHOD:PUBLISH
X-WR-CALNAME:Cedar Tree Classical Christian School
X-ORIGINAL-URL:https://www.cedartreeschool.org
X-WR-CALDESC:Events for Cedar Tree Classical Christian School
REFRESH-INTERVAL;VALUE=DURATION:PT1H
X-Robots-Tag:noindex
X-PUBLISHED-TTL:PT1H
BEGIN:VTIMEZONE
TZID:America/Los_Angeles
BEGIN:DAYLIGHT
TZOFFSETFROM:-0800
TZOFFSETTO:-0700
TZNAME:PDT
DTSTART:20250309T100000
END:DAYLIGHT
BEGIN:STANDARD
TZOFFSETFROM:-0700
TZOFFSETTO:-0800
TZNAME:PST
DTSTART:20251102T090000
END:STANDARD
BEGIN:DAYLIGHT
TZOFFSETFROM:-0800
TZOFFSETTO:-0700
TZNAME:PDT
DTSTART:20260308T100000
END:DAYLIGHT
BEGIN:STANDARD
TZOFFSETFROM:-0700
TZOFFSETTO:-0800
TZNAME:PST
DTSTART:20261101T090000
END:STANDARD
BEGIN:DAYLIGHT
TZOFFSETFROM:-0800
TZOFFSETTO:-0700
TZNAME:PDT
DTSTART:20270314T100000
END:DAYLIGHT
BEGIN:STANDARD
TZOFFSETFROM:-0700
TZOFFSETTO:-0800
TZNAME:PST
DTSTART:20271107T090000
END:STANDARD
END:VTIMEZONE
BEGIN:VEVENT
DTSTART;TZID=America/Los_Angeles:20260303T090000
DTEND;TZID=America/Los_Angeles:20260303T110000
DTSTAMP:20260423T044012
CREATED:20260108T223711Z
LAST-MODIFIED:20260108T224047Z
UID:7541-1772528400-1772535600@www.cedartreeschool.org
SUMMARY:Preview Tuesday
DESCRIPTION:Open House 9:00-11:00am \nEvery Tuesday in February & March \nTour campus • Visit classrooms • Pick up applications • Meet our Teachers \nPersonal answers for your questions
URL:https://www.cedartreeschool.org/event/7541/
CATEGORIES:Website
ATTACH;FMTTYPE=image/png:https://www.cedartreeschool.org/wp-content/uploads/Screenshot-2026-01-06-at-11.00.55-AM.png
END:VEVENT
BEGIN:VEVENT
DTSTART;TZID=America/Los_Angeles:20260305T083000
DTEND;TZID=America/Los_Angeles:20260306T130000
DTSTAMP:20260423T044012
CREATED:20230101T091243Z
LAST-MODIFIED:20251121T165628Z
UID:5291-1772699400-1772802000@www.cedartreeschool.org
SUMMARY:Parent-Teacher Conferences
DESCRIPTION:Conferences are Thursday\, March 5 (2-Hr Early Release) and Friday\, March 6 (No School).
URL:https://www.cedartreeschool.org/event/parent-teacher-conference/
CATEGORIES:Website
ATTACH;FMTTYPE=image/png:https://www.cedartreeschool.org/wp-content/uploads/Web-Image-Early-Release-PTC-2.png
END:VEVENT
BEGIN:VEVENT
DTSTART;VALUE=DATE:20260306
DTEND;VALUE=DATE:20260307
DTSTAMP:20260423T044012
CREATED:20250131T164737Z
LAST-MODIFIED:20251121T165705Z
UID:6890-1772755200-1772841599@www.cedartreeschool.org
SUMMARY:Parent Teacher Conferences - No School
DESCRIPTION:There will be No School on Friday\, March 6 for Parent Teacher Conferences.
URL:https://www.cedartreeschool.org/event/parent-teacher-conferences-no-school/
CATEGORIES:Website
ATTACH;FMTTYPE=image/png:https://www.cedartreeschool.org/wp-content/uploads/Web-Image-PTC.png
END:VEVENT
BEGIN:VEVENT
DTSTART;TZID=America/Los_Angeles:20260310T083000
DTEND;TZID=America/Los_Angeles:20260310T090000
DTSTAMP:20260423T044012
CREATED:20231002T212406Z
LAST-MODIFIED:20260206T193931Z
UID:6393-1773131400-1773133200@www.cedartreeschool.org
SUMMARY:Coffee Talk
DESCRIPTION:Tuesday\, March 10\, parents are invited to join us in the Assembly Hall immediately after the morning hymn until the first assembly at 9:00am for light refreshments and a Q&A with Mr. Bradshaw on the topic of Teaching Excellence.
URL:https://www.cedartreeschool.org/event/coffee-talk-7/
CATEGORIES:Website
ATTACH;FMTTYPE=image/png:https://www.cedartreeschool.org/wp-content/uploads/Web-Image-Calendar-Coffee-scaled.png
END:VEVENT
BEGIN:VEVENT
DTSTART;TZID=America/Los_Angeles:20260310T083000
DTEND;TZID=America/Los_Angeles:20260310T130000
DTSTAMP:20260423T044012
CREATED:20230101T194348Z
LAST-MODIFIED:20260206T194331Z
UID:4052-1773131400-1773147600@www.cedartreeschool.org
SUMMARY:Assembly & Early Release (In-Service)
DESCRIPTION:Tuesday\, March 10. Dress Uniform Required and 2-hour Early Dismissal.
URL:https://www.cedartreeschool.org/event/assembly-dress-uniform-required-4/
CATEGORIES:Website
ATTACH;FMTTYPE=image/png:https://www.cedartreeschool.org/wp-content/uploads/Web-Image-Early-Release-scaled.png
END:VEVENT
BEGIN:VEVENT
DTSTART;TZID=America/Los_Angeles:20260310T090000
DTEND;TZID=America/Los_Angeles:20260310T110000
DTSTAMP:20260423T044012
CREATED:20260108T224611Z
LAST-MODIFIED:20260108T225031Z
UID:7549-1773133200-1773140400@www.cedartreeschool.org
SUMMARY:Preview Tuesday
DESCRIPTION:Open House 9:00-11:00am \nEvery Tuesday in February & March \nTour campus • Visit classrooms • Pick up applications • Meet our Teachers \nPersonal answers for your questions
URL:https://www.cedartreeschool.org/event/preview-tuesday/
CATEGORIES:Website
ATTACH;FMTTYPE=image/png:https://www.cedartreeschool.org/wp-content/uploads/Screenshot-2026-01-06-at-11.00.55-AM.png
END:VEVENT
BEGIN:VEVENT
DTSTART;TZID=America/Los_Angeles:20260314T180000
DTEND;TZID=America/Los_Angeles:20260314T210000
DTSTAMP:20260423T044012
CREATED:20230301T201836Z
LAST-MODIFIED:20260205T223556Z
UID:5816-1773511200-1773522000@www.cedartreeschool.org
SUMMARY:Fundraising Gala
DESCRIPTION:Cedar Tree Classical Christian School cordially invites you to a Fundraising Gala on Saturday\, March 14\, 6:00pm\, at \nThe AC Hotel\, 333 W Columbia Way\, Vancouver\, Washington 98662 \n\n\nWe are thrilled to gather our community for an unforgettable evening. Come enjoy a night of great food\, captivating magical entertainment\, and learn how your financial support furthers the mission of nurturing students in Christ-centered wisdom. Please join us for an evening of laughter\, and impactful giving! \nSilent Auction 6:00pm \nDinner and Entertainment 6:45pm \nAdult guests only\, please. \n \n\n\nCocktail or sparkling attire  |  RSVP Required  |  Limited tickets available \n\n\nCan’t make it on March 14? Donate here.
URL:https://www.cedartreeschool.org/event/gala-fundraiser-and-dinner/
LOCATION:AC Hotel Vancouver\, WA\, 333 West Columbia Way\, Vancouver\, WA\, 98660
CATEGORIES:Website
ATTACH;FMTTYPE=image/png:https://www.cedartreeschool.org/wp-content/uploads/Gala-Stripe-Image.png
END:VEVENT
BEGIN:VEVENT
DTSTART;TZID=America/Los_Angeles:20260317T090000
DTEND;TZID=America/Los_Angeles:20260317T110000
DTSTAMP:20260423T044012
CREATED:20260108T224905Z
LAST-MODIFIED:20260108T224956Z
UID:7551-1773738000-1773745200@www.cedartreeschool.org
SUMMARY:Preview Tuesday
DESCRIPTION:Open House 9:00-11:00am \nEvery Tuesday in February & March \nTour campus • Visit classrooms • Pick up applications • Meet our Teachers \nPersonal answers for your questions
URL:https://www.cedartreeschool.org/event/preview-tuesday-2/
CATEGORIES:Website
ATTACH;FMTTYPE=image/png:https://www.cedartreeschool.org/wp-content/uploads/Screenshot-2026-01-06-at-11.00.55-AM.png
END:VEVENT
BEGIN:VEVENT
DTSTART;TZID=America/Los_Angeles:20260323T190000
DTEND;TZID=America/Los_Angeles:20260323T200000
DTSTAMP:20260423T044012
CREATED:20260206T195028Z
LAST-MODIFIED:20260217T174402Z
UID:7663-1774292400-1774296000@www.cedartreeschool.org
SUMMARY:Upper School Fine Arts Showcase
DESCRIPTION:Student creativity across multiple disciplines\, including speech contest winners\, musical performances\, and visual art\, highlighting our students’ diverse talents. Please join us on Monday\, March 23 at 7pm in the Assembly Hall.
URL:https://www.cedartreeschool.org/event/upper-school-fine-arts-showcase/
CATEGORIES:Website
ATTACH;FMTTYPE=image/png:https://www.cedartreeschool.org/wp-content/uploads/Fine-Arts-Showcase.png
END:VEVENT
BEGIN:VEVENT
DTSTART;TZID=America/Los_Angeles:20260324T090000
DTEND;TZID=America/Los_Angeles:20260324T110000
DTSTAMP:20260423T044012
CREATED:20260108T225254Z
LAST-MODIFIED:20260108T225254Z
UID:7555-1774342800-1774350000@www.cedartreeschool.org
SUMMARY:Preview Tuesday
DESCRIPTION:Open House 9:00-11:00am \nEvery Tuesday in February & March \nTour campus • Visit classrooms • Pick up applications • Meet our Teachers \nPersonal answers for your questions
URL:https://www.cedartreeschool.org/event/preview-tuesday-3/
CATEGORIES:Website
ATTACH;FMTTYPE=image/png:https://www.cedartreeschool.org/wp-content/uploads/Screenshot-2026-01-06-at-11.00.55-AM.png
END:VEVENT
BEGIN:VEVENT
DTSTART;TZID=America/Los_Angeles:20260331T090000
DTEND;TZID=America/Los_Angeles:20260331T110000
DTSTAMP:20260423T044012
CREATED:20260108T225410Z
LAST-MODIFIED:20260108T225410Z
UID:7557-1774947600-1774954800@www.cedartreeschool.org
SUMMARY:Preview Tuesday
DESCRIPTION:Open House 9:00-11:00am \nEvery Tuesday in February & March \nTour campus • Visit classrooms • Pick up applications • Meet our Teachers \nPersonal answers for your questions
URL:https://www.cedartreeschool.org/event/preview-tuesday-5/
CATEGORIES:Website
ATTACH;FMTTYPE=image/png:https://www.cedartreeschool.org/wp-content/uploads/Screenshot-2026-01-06-at-11.00.55-AM.png
END:VEVENT
END:VCALENDAR