BEGIN:VCALENDAR
VERSION:2.0
PRODID:-//Cedar Tree Classical Christian School - ECPv6.15.20//NONSGML v1.0//EN
CALSCALE:GREGORIAN
METHOD:PUBLISH
X-WR-CALNAME:Cedar Tree Classical Christian School
X-ORIGINAL-URL:https://www.cedartreeschool.org
X-WR-CALDESC:Events for Cedar Tree Classical Christian School
REFRESH-INTERVAL;VALUE=DURATION:PT1H
X-Robots-Tag:noindex
X-PUBLISHED-TTL:PT1H
BEGIN:VTIMEZONE
TZID:America/Los_Angeles
BEGIN:DAYLIGHT
TZOFFSETFROM:-0800
TZOFFSETTO:-0700
TZNAME:PDT
DTSTART:20250309T100000
END:DAYLIGHT
BEGIN:STANDARD
TZOFFSETFROM:-0700
TZOFFSETTO:-0800
TZNAME:PST
DTSTART:20251102T090000
END:STANDARD
BEGIN:DAYLIGHT
TZOFFSETFROM:-0800
TZOFFSETTO:-0700
TZNAME:PDT
DTSTART:20260308T100000
END:DAYLIGHT
BEGIN:STANDARD
TZOFFSETFROM:-0700
TZOFFSETTO:-0800
TZNAME:PST
DTSTART:20261101T090000
END:STANDARD
BEGIN:DAYLIGHT
TZOFFSETFROM:-0800
TZOFFSETTO:-0700
TZNAME:PDT
DTSTART:20270314T100000
END:DAYLIGHT
BEGIN:STANDARD
TZOFFSETFROM:-0700
TZOFFSETTO:-0800
TZNAME:PST
DTSTART:20271107T090000
END:STANDARD
END:VTIMEZONE
BEGIN:VEVENT
DTSTART;TZID=America/Los_Angeles:20260512T083000
DTEND;TZID=America/Los_Angeles:20260513T130000
DTSTAMP:20260423T025856
CREATED:20230328T175417Z
LAST-MODIFIED:20260206T193732Z
UID:5936-1778574600-1778677200@www.cedartreeschool.org
SUMMARY:Assembly & Early Release (In-Service)
DESCRIPTION:Tuesday\, May 12. Assembly times: K-2nd Assembly 9:00-9:20; 3rd-6th Assembly 9:30-9:50; L/R assembly 10:00-10:20. Dress Uniforms Required and 2-hour early dismissal.
URL:https://www.cedartreeschool.org/event/the-moonstone-3/
CATEGORIES:Website
ATTACH;FMTTYPE=image/png:https://www.cedartreeschool.org/wp-content/uploads/Web-Image-Early-Release-scaled.png
END:VEVENT
END:VCALENDAR