BEGIN:VCALENDAR
VERSION:2.0
PRODID:-//Cedar Tree Classical Christian School - ECPv6.15.20//NONSGML v1.0//EN
CALSCALE:GREGORIAN
METHOD:PUBLISH
X-WR-CALNAME:Cedar Tree Classical Christian School
X-ORIGINAL-URL:https://www.cedartreeschool.org
X-WR-CALDESC:Events for Cedar Tree Classical Christian School
REFRESH-INTERVAL;VALUE=DURATION:PT1H
X-Robots-Tag:noindex
X-PUBLISHED-TTL:PT1H
BEGIN:VTIMEZONE
TZID:America/Los_Angeles
BEGIN:DAYLIGHT
TZOFFSETFROM:-0800
TZOFFSETTO:-0700
TZNAME:PDT
DTSTART:20230312T100000
END:DAYLIGHT
BEGIN:STANDARD
TZOFFSETFROM:-0700
TZOFFSETTO:-0800
TZNAME:PST
DTSTART:20231105T090000
END:STANDARD
BEGIN:DAYLIGHT
TZOFFSETFROM:-0800
TZOFFSETTO:-0700
TZNAME:PDT
DTSTART:20240310T100000
END:DAYLIGHT
BEGIN:STANDARD
TZOFFSETFROM:-0700
TZOFFSETTO:-0800
TZNAME:PST
DTSTART:20241103T090000
END:STANDARD
BEGIN:DAYLIGHT
TZOFFSETFROM:-0800
TZOFFSETTO:-0700
TZNAME:PDT
DTSTART:20250309T100000
END:DAYLIGHT
BEGIN:STANDARD
TZOFFSETFROM:-0700
TZOFFSETTO:-0800
TZNAME:PST
DTSTART:20251102T090000
END:STANDARD
END:VTIMEZONE
BEGIN:VEVENT
DTSTART;TZID=America/Los_Angeles:20240521T190000
DTEND;TZID=America/Los_Angeles:20240521T203000
DTSTAMP:20260423T110757
CREATED:20230425T163237Z
LAST-MODIFIED:20240513T211353Z
UID:6032-1716318000-1716323400@www.cedartreeschool.org
SUMMARY:Senior Thesis Night Part 2
DESCRIPTION:Everyone is invited to join us at 7:00pm\, Tuesday\, May 21\, in the Assembly Hall as our seniors make their thesis presentations. Cedar Tree students should wear everyday uniforms. \nView this flyer for a list of students presenting Monday and Tuesday and their topics.
URL:https://www.cedartreeschool.org/event/senior-thesis-night-part-2/
CATEGORIES:Website
ATTACH;FMTTYPE=image/jpeg:https://www.cedartreeschool.org/wp-content/uploads/Senior-Thesis-EDITABLE-TEXT-Night-2.jpg
END:VEVENT
END:VCALENDAR