BEGIN:VCALENDAR
VERSION:2.0
PRODID:-//Cedar Tree Classical Christian School - ECPv6.15.20//NONSGML v1.0//EN
CALSCALE:GREGORIAN
METHOD:PUBLISH
X-WR-CALNAME:Cedar Tree Classical Christian School
X-ORIGINAL-URL:https://www.cedartreeschool.org
X-WR-CALDESC:Events for Cedar Tree Classical Christian School
REFRESH-INTERVAL;VALUE=DURATION:PT1H
X-Robots-Tag:noindex
X-PUBLISHED-TTL:PT1H
BEGIN:VTIMEZONE
TZID:America/Los_Angeles
BEGIN:DAYLIGHT
TZOFFSETFROM:-0800
TZOFFSETTO:-0700
TZNAME:PDT
DTSTART:20240310T100000
END:DAYLIGHT
BEGIN:STANDARD
TZOFFSETFROM:-0700
TZOFFSETTO:-0800
TZNAME:PST
DTSTART:20241103T090000
END:STANDARD
BEGIN:DAYLIGHT
TZOFFSETFROM:-0800
TZOFFSETTO:-0700
TZNAME:PDT
DTSTART:20250309T100000
END:DAYLIGHT
BEGIN:STANDARD
TZOFFSETFROM:-0700
TZOFFSETTO:-0800
TZNAME:PST
DTSTART:20251102T090000
END:STANDARD
BEGIN:DAYLIGHT
TZOFFSETFROM:-0800
TZOFFSETTO:-0700
TZNAME:PDT
DTSTART:20260308T100000
END:DAYLIGHT
BEGIN:STANDARD
TZOFFSETFROM:-0700
TZOFFSETTO:-0800
TZNAME:PST
DTSTART:20261101T090000
END:STANDARD
END:VTIMEZONE
BEGIN:VEVENT
DTSTART;TZID=America/Los_Angeles:20250510T140000
DTEND;TZID=America/Los_Angeles:20250510T160000
DTSTAMP:20260423T093854
CREATED:20250320T181652Z
LAST-MODIFIED:20250321T034526Z
UID:6958-1746885600-1746892800@www.cedartreeschool.org
SUMMARY:Family Fun Fundraiser Fest
DESCRIPTION:An afternoon of family fun with food carts\, kid-friendly entertainment\, special guest speaker\, and a fundraising opportunity to further the mission and vision of Cedar Tree School. \nSpecial Guest Speaker: Dr Louis Markos\,“Classical Education and Why it is Necessary”. \nCedar Tree Classical Christian School\n20601 NE 29th Avenue\, Ridgefield\, Washington \nRSVP online to let us know you’ll be there\, or contact the school office (360-887-0190 or office@cedartreeschool.org).
URL:https://www.cedartreeschool.org/event/family-fun-fundraiser-fest/
CATEGORIES:Website
ATTACH;FMTTYPE=image/png:https://www.cedartreeschool.org/wp-content/uploads/FFFF-Image-for-Website.png
END:VEVENT
END:VCALENDAR