BEGIN:VCALENDAR
VERSION:2.0
PRODID:-//Cedar Tree Classical Christian School - ECPv6.15.20//NONSGML v1.0//EN
CALSCALE:GREGORIAN
METHOD:PUBLISH
X-WR-CALNAME:Cedar Tree Classical Christian School
X-ORIGINAL-URL:https://www.cedartreeschool.org
X-WR-CALDESC:Events for Cedar Tree Classical Christian School
REFRESH-INTERVAL;VALUE=DURATION:PT1H
X-Robots-Tag:noindex
X-PUBLISHED-TTL:PT1H
BEGIN:VTIMEZONE
TZID:America/Los_Angeles
BEGIN:DAYLIGHT
TZOFFSETFROM:-0800
TZOFFSETTO:-0700
TZNAME:PDT
DTSTART:20240310T100000
END:DAYLIGHT
BEGIN:STANDARD
TZOFFSETFROM:-0700
TZOFFSETTO:-0800
TZNAME:PST
DTSTART:20241103T090000
END:STANDARD
BEGIN:DAYLIGHT
TZOFFSETFROM:-0800
TZOFFSETTO:-0700
TZNAME:PDT
DTSTART:20250309T100000
END:DAYLIGHT
BEGIN:STANDARD
TZOFFSETFROM:-0700
TZOFFSETTO:-0800
TZNAME:PST
DTSTART:20251102T090000
END:STANDARD
BEGIN:DAYLIGHT
TZOFFSETFROM:-0800
TZOFFSETTO:-0700
TZNAME:PDT
DTSTART:20260308T100000
END:DAYLIGHT
BEGIN:STANDARD
TZOFFSETFROM:-0700
TZOFFSETTO:-0800
TZNAME:PST
DTSTART:20261101T090000
END:STANDARD
END:VTIMEZONE
BEGIN:VEVENT
DTSTART;VALUE=DATE:20250502
DTEND;VALUE=DATE:20250504
DTSTAMP:20260423T093007
CREATED:20220411T211323Z
LAST-MODIFIED:20250321T034618Z
UID:3491-1746144000-1746316799@www.cedartreeschool.org
SUMMARY:"Around the World in 80 Days"
DESCRIPTION:Cedar Tree Drama presents Around the World in 80 Days \nJoin fearless adventurer Phileas Fogg as he tries to beat the clock and circle the globe in an unheard-of 80 days. Danger\, romance\, and comic surprises abound in this whirlwind of a show. Hold onto your seats for the original amazing race!  \nFriday\, May 2\, 6:30pm\nSaturday\, May 3\, 2:30 & 6:30pm \nat 20601 NE 29th Avenue\, Ridgefield\, Washington \nBuy tickets online at $10 each or call the office (360-887-0190).
URL:https://www.cedartreeschool.org/event/drama/
CATEGORIES:Website
ATTACH;FMTTYPE=image/png:https://www.cedartreeschool.org/wp-content/uploads/Around-the-World-in-80-Days-Web-Image.png
END:VEVENT
END:VCALENDAR