BEGIN:VCALENDAR
VERSION:2.0
PRODID:-//Cedar Tree Classical Christian School - ECPv6.15.20//NONSGML v1.0//EN
CALSCALE:GREGORIAN
METHOD:PUBLISH
X-WR-CALNAME:Cedar Tree Classical Christian School
X-ORIGINAL-URL:https://www.cedartreeschool.org
X-WR-CALDESC:Events for Cedar Tree Classical Christian School
REFRESH-INTERVAL;VALUE=DURATION:PT1H
X-Robots-Tag:noindex
X-PUBLISHED-TTL:PT1H
BEGIN:VTIMEZONE
TZID:America/Los_Angeles
BEGIN:DAYLIGHT
TZOFFSETFROM:-0800
TZOFFSETTO:-0700
TZNAME:PDT
DTSTART:20250309T100000
END:DAYLIGHT
BEGIN:STANDARD
TZOFFSETFROM:-0700
TZOFFSETTO:-0800
TZNAME:PST
DTSTART:20251102T090000
END:STANDARD
BEGIN:DAYLIGHT
TZOFFSETFROM:-0800
TZOFFSETTO:-0700
TZNAME:PDT
DTSTART:20260308T100000
END:DAYLIGHT
BEGIN:STANDARD
TZOFFSETFROM:-0700
TZOFFSETTO:-0800
TZNAME:PST
DTSTART:20261101T090000
END:STANDARD
BEGIN:DAYLIGHT
TZOFFSETFROM:-0800
TZOFFSETTO:-0700
TZNAME:PDT
DTSTART:20270314T100000
END:DAYLIGHT
BEGIN:STANDARD
TZOFFSETFROM:-0700
TZOFFSETTO:-0800
TZNAME:PST
DTSTART:20271107T090000
END:STANDARD
END:VTIMEZONE
BEGIN:VEVENT
DTSTART;TZID=America/Los_Angeles:20260604T190000
DTEND;TZID=America/Los_Angeles:20260604T203000
DTSTAMP:20260423T011636
CREATED:20230301T095624Z
LAST-MODIFIED:20260326T193551Z
UID:3240-1780599600-1780605000@www.cedartreeschool.org
SUMMARY:Commencement
DESCRIPTION:Cedar Tree’s Commencement Ceremony will be held at 7:00pm Thursday\, June 4\, at Cedar Tree Classical Christian School\, 20601 NE 29th Avenue\, Ridgefield\, Washington. The Cedar Tree community is invited to join together to give thanks to God with “Pomp and Circumstance” as we award diplomas to our senior class\, with this year’s guest speaker\, former Headmaster Jim Ellifritt. Refreshments following. Dress Uniforms Required for all students.
URL:https://www.cedartreeschool.org/event/commencement/
LOCATION:Cedar Tree Classical Christian School\, 20601 N.E. 29th Ave.\, Ridgefield\, WA\, 98642\, United States
CATEGORIES:Website
ATTACH;FMTTYPE=image/jpeg:https://www.cedartreeschool.org/wp-content/uploads/2024-06-06-193100-_NZ80933-scaled.jpg
END:VEVENT
END:VCALENDAR