BEGIN:VCALENDAR
VERSION:2.0
PRODID:-//Cedar Tree Classical Christian School - ECPv6.15.20//NONSGML v1.0//EN
CALSCALE:GREGORIAN
METHOD:PUBLISH
X-WR-CALNAME:Cedar Tree Classical Christian School
X-ORIGINAL-URL:https://www.cedartreeschool.org
X-WR-CALDESC:Events for Cedar Tree Classical Christian School
REFRESH-INTERVAL;VALUE=DURATION:PT1H
X-Robots-Tag:noindex
X-PUBLISHED-TTL:PT1H
BEGIN:VTIMEZONE
TZID:America/Los_Angeles
BEGIN:DAYLIGHT
TZOFFSETFROM:-0800
TZOFFSETTO:-0700
TZNAME:PDT
DTSTART:20220313T100000
END:DAYLIGHT
BEGIN:STANDARD
TZOFFSETFROM:-0700
TZOFFSETTO:-0800
TZNAME:PST
DTSTART:20221106T090000
END:STANDARD
BEGIN:DAYLIGHT
TZOFFSETFROM:-0800
TZOFFSETTO:-0700
TZNAME:PDT
DTSTART:20230312T100000
END:DAYLIGHT
BEGIN:STANDARD
TZOFFSETFROM:-0700
TZOFFSETTO:-0800
TZNAME:PST
DTSTART:20231105T090000
END:STANDARD
BEGIN:DAYLIGHT
TZOFFSETFROM:-0800
TZOFFSETTO:-0700
TZNAME:PDT
DTSTART:20240310T100000
END:DAYLIGHT
BEGIN:STANDARD
TZOFFSETFROM:-0700
TZOFFSETTO:-0800
TZNAME:PST
DTSTART:20241103T090000
END:STANDARD
END:VTIMEZONE
BEGIN:VEVENT
DTSTART;TZID=America/Los_Angeles:20231114T083000
DTEND;TZID=America/Los_Angeles:20231114T090000
DTSTAMP:20260423T061652
CREATED:20220901T185306Z
LAST-MODIFIED:20231002T212151Z
UID:4044-1699950600-1699952400@www.cedartreeschool.org
SUMMARY:Coffee Talk
DESCRIPTION:Tuesday\, November 14\, parents are invited to join us in the Assembly Hall immediately after the morning hymn until the first assembly at 9:00am for light refreshments and a Q&A with Mr. Bradshaw on the topic of Training Appreciation for Heritage.
URL:https://www.cedartreeschool.org/event/coffee-talk-5/
CATEGORIES:Website
ATTACH;FMTTYPE=image/jpeg:https://www.cedartreeschool.org/wp-content/uploads/coffee-talk-4.jpg
END:VEVENT
END:VCALENDAR